BEGIN:VCALENDAR
VERSION:2.0
PRODID:-//Hope Baptist Church - ECPv6.15.17//NONSGML v1.0//EN
CALSCALE:GREGORIAN
METHOD:PUBLISH
X-ORIGINAL-URL:https://hopebc.org
X-WR-CALDESC:Events for Hope Baptist Church
REFRESH-INTERVAL;VALUE=DURATION:PT1H
X-Robots-Tag:noindex
X-PUBLISHED-TTL:PT1H
BEGIN:VTIMEZONE
TZID:America/New_York
BEGIN:DAYLIGHT
TZOFFSETFROM:-0500
TZOFFSETTO:-0400
TZNAME:EDT
DTSTART:20240310T070000
END:DAYLIGHT
BEGIN:STANDARD
TZOFFSETFROM:-0400
TZOFFSETTO:-0500
TZNAME:EST
DTSTART:20241103T060000
END:STANDARD
BEGIN:DAYLIGHT
TZOFFSETFROM:-0500
TZOFFSETTO:-0400
TZNAME:EDT
DTSTART:20250309T070000
END:DAYLIGHT
BEGIN:STANDARD
TZOFFSETFROM:-0400
TZOFFSETTO:-0500
TZNAME:EST
DTSTART:20251102T060000
END:STANDARD
BEGIN:DAYLIGHT
TZOFFSETFROM:-0500
TZOFFSETTO:-0400
TZNAME:EDT
DTSTART:20260308T070000
END:DAYLIGHT
BEGIN:STANDARD
TZOFFSETFROM:-0400
TZOFFSETTO:-0500
TZNAME:EST
DTSTART:20261101T060000
END:STANDARD
END:VTIMEZONE
BEGIN:VEVENT
DTSTART;TZID=America/New_York:20250514T180000
DTEND;TZID=America/New_York:20250514T190000
DTSTAMP:20260422T215610
CREATED:20250330T012417Z
LAST-MODIFIED:20250511T023951Z
UID:5136-1747245600-1747249200@hopebc.org
SUMMARY:Hope Kids - Bible Hero Night
DESCRIPTION:Join us for Bible Hero Night on Wednesday at 6:00 PM! \nKids are encouraged to dress as their favorite Bible hero and come enjoy learning\, memorizing scripture\, and games with us this week. \nThe game of the week is Four Corners \nTo learn more about Hope Kids Master Club\, click here.
URL:https://hopebc.org/event/hope-kids/
LOCATION:Hope Baptist Church\, 3200 Woodside Dr.\, Fairfield\, OH\, 45014
CATEGORIES:Kids
ATTACH;FMTTYPE=image/jpeg:https://hopebc.org/wp-content/uploads/2025/03/mc-bible-hero-night.jpg
END:VEVENT
END:VCALENDAR