BEGIN:VCALENDAR
VERSION:2.0
PRODID:-//Hope Baptist Church - ECPv6.15.17//NONSGML v1.0//EN
CALSCALE:GREGORIAN
METHOD:PUBLISH
X-WR-CALNAME:Hope Baptist Church
X-ORIGINAL-URL:https://hopebc.org
X-WR-CALDESC:Events for Hope Baptist Church
REFRESH-INTERVAL;VALUE=DURATION:PT1H
X-Robots-Tag:noindex
X-PUBLISHED-TTL:PT1H
BEGIN:VTIMEZONE
TZID:America/New_York
BEGIN:DAYLIGHT
TZOFFSETFROM:-0500
TZOFFSETTO:-0400
TZNAME:EDT
DTSTART:20240310T070000
END:DAYLIGHT
BEGIN:STANDARD
TZOFFSETFROM:-0400
TZOFFSETTO:-0500
TZNAME:EST
DTSTART:20241103T060000
END:STANDARD
BEGIN:DAYLIGHT
TZOFFSETFROM:-0500
TZOFFSETTO:-0400
TZNAME:EDT
DTSTART:20250309T070000
END:DAYLIGHT
BEGIN:STANDARD
TZOFFSETFROM:-0400
TZOFFSETTO:-0500
TZNAME:EST
DTSTART:20251102T060000
END:STANDARD
BEGIN:DAYLIGHT
TZOFFSETFROM:-0500
TZOFFSETTO:-0400
TZNAME:EDT
DTSTART:20260308T070000
END:DAYLIGHT
BEGIN:STANDARD
TZOFFSETFROM:-0400
TZOFFSETTO:-0500
TZNAME:EST
DTSTART:20261101T060000
END:STANDARD
BEGIN:DAYLIGHT
TZOFFSETFROM:-0500
TZOFFSETTO:-0400
TZNAME:EDT
DTSTART:20270314T070000
END:DAYLIGHT
BEGIN:STANDARD
TZOFFSETFROM:-0400
TZOFFSETTO:-0500
TZNAME:EST
DTSTART:20271107T060000
END:STANDARD
END:VTIMEZONE
BEGIN:VEVENT
DTSTART;TZID=America/New_York:20251224T190000
DTEND;TZID=America/New_York:20251224T200000
DTSTAMP:20260422T184944
CREATED:20241115T031803Z
LAST-MODIFIED:20251108T204255Z
UID:4978-1766602800-1766606400@hopebc.org
SUMMARY:Candlelight Service
DESCRIPTION:Come join us for an hour of worship with singing and the retelling of the greatest event in history: when God put on flesh and became a man. Celebrate the birth of Jesus: born in a manger\, heralded by angels\, and worshipped by wise men. We will finish the evening lighting candles while we form a circle and sing “Silent Night.”
URL:https://hopebc.org/event/candlelight-service/
LOCATION:Hope Baptist Church\, 3200 Woodside Dr.\, Fairfield\, OH\, 45014
CATEGORIES:Christmas,Community,Fellowship
ATTACH;FMTTYPE=image/jpeg:https://hopebc.org/wp-content/uploads/2024/11/CandleLarge1.jpg
END:VEVENT
BEGIN:VEVENT
DTSTART;VALUE=DATE:20260301
DTEND;VALUE=DATE:20260302
DTSTAMP:20260422T184944
CREATED:20250222T222417Z
LAST-MODIFIED:20260214T210508Z
UID:5107-1772323200-1772409599@hopebc.org
SUMMARY:Anniversary Service
DESCRIPTION:Join us as we celebrate God’s great love and mercy on us over the last thirteen years. God’s blessings on us as a church body and as individuals are innumerable. He has allowed us to take part in fulfilling the Great Commission (Matthew 28:18-20) and sharing the love of Christ through the gospel with our neighbors. We will be offering thanksgiving and praise to our great God for his goodness to us. We will be having lunch and an afternoon service that begins around 1:30 PM. Join us for lunch and stay to help us worship the King. \n  \n2 Corinthians 2:14 Now thanks be unto God\, which always causeth us to triumph in Christ\, and maketh manifest the savour of his knowledge by us in every place.
URL:https://hopebc.org/event/anniversary-service/
LOCATION:Hope Baptist Church\, 3200 Woodside Dr.\, Fairfield\, OH\, 45014
CATEGORIES:Fellowship
ATTACH;FMTTYPE=image/jpeg:https://hopebc.org/wp-content/uploads/2026/02/anniversary-2026.jpg
END:VEVENT
BEGIN:VEVENT
DTSTART;TZID=America/New_York:20260313T183000
DTEND;TZID=America/New_York:20260313T203000
DTSTAMP:20260422T184944
CREATED:20240803T174510Z
LAST-MODIFIED:20260215T225002Z
UID:4909-1773426600-1773433800@hopebc.org
SUMMARY:RYGHT Night
DESCRIPTION:RYGHT = Reliant Youth God-Honoring Truth \nKids in 7th-12th grades are welcome to join us for RYGHT Night. Come enjoy fellowship\, games\, snacks\, and of course\, God-Honoring truth.
URL:https://hopebc.org/event/ryght-night/
LOCATION:Hope Baptist Church\, 3200 Woodside Dr.\, Fairfield\, OH\, 45014
CATEGORIES:Fellowship,Teens
ATTACH;FMTTYPE=image/jpeg:https://hopebc.org/wp-content/uploads/2024/08/RYGHT-NIGHTS-MAR13.jpg
END:VEVENT
END:VCALENDAR