BEGIN:VCALENDAR
VERSION:2.0
PRODID:-//Hope Baptist Church - ECPv6.15.17//NONSGML v1.0//EN
CALSCALE:GREGORIAN
METHOD:PUBLISH
X-WR-CALNAME:Hope Baptist Church
X-ORIGINAL-URL:https://hopebc.org
X-WR-CALDESC:Events for Hope Baptist Church
REFRESH-INTERVAL;VALUE=DURATION:PT1H
X-Robots-Tag:noindex
X-PUBLISHED-TTL:PT1H
BEGIN:VTIMEZONE
TZID:America/New_York
BEGIN:DAYLIGHT
TZOFFSETFROM:-0500
TZOFFSETTO:-0400
TZNAME:EDT
DTSTART:20240310T070000
END:DAYLIGHT
BEGIN:STANDARD
TZOFFSETFROM:-0400
TZOFFSETTO:-0500
TZNAME:EST
DTSTART:20241103T060000
END:STANDARD
BEGIN:DAYLIGHT
TZOFFSETFROM:-0500
TZOFFSETTO:-0400
TZNAME:EDT
DTSTART:20250309T070000
END:DAYLIGHT
BEGIN:STANDARD
TZOFFSETFROM:-0400
TZOFFSETTO:-0500
TZNAME:EST
DTSTART:20251102T060000
END:STANDARD
BEGIN:DAYLIGHT
TZOFFSETFROM:-0500
TZOFFSETTO:-0400
TZNAME:EDT
DTSTART:20260308T070000
END:DAYLIGHT
BEGIN:STANDARD
TZOFFSETFROM:-0400
TZOFFSETTO:-0500
TZNAME:EST
DTSTART:20261101T060000
END:STANDARD
END:VTIMEZONE
BEGIN:VEVENT
DTSTART;TZID=America/New_York:20250426T173000
DTEND;TZID=America/New_York:20250426T210000
DTSTAMP:20260423T033623
CREATED:20250419T211642Z
LAST-MODIFIED:20250419T211642Z
UID:5178-1745688600-1745701200@hopebc.org
SUMMARY:Reliant Youth - Board & Video Game Night
DESCRIPTION:Kids in 7th-12th grades are welcome to join us for Reliant Youth Board and Video Game Night. Come enjoy fellowship\, games (of the board and video variety)\, snacks (pizza)\, and of course\, God-Honoring truth. \n 
URL:https://hopebc.org/event/ry-board-video-game-night/
LOCATION:Hope Baptist Church\, 3200 Woodside Dr.\, Fairfield\, OH\, 45014
CATEGORIES:Fellowship,Teens
END:VEVENT
END:VCALENDAR