BEGIN:VCALENDAR
VERSION:2.0
PRODID:-//Hope Baptist Church - ECPv6.15.17//NONSGML v1.0//EN
CALSCALE:GREGORIAN
METHOD:PUBLISH
X-WR-CALNAME:Hope Baptist Church
X-ORIGINAL-URL:https://hopebc.org
X-WR-CALDESC:Events for Hope Baptist Church
REFRESH-INTERVAL;VALUE=DURATION:PT1H
X-Robots-Tag:noindex
X-PUBLISHED-TTL:PT1H
BEGIN:VTIMEZONE
TZID:America/New_York
BEGIN:DAYLIGHT
TZOFFSETFROM:-0500
TZOFFSETTO:-0400
TZNAME:EDT
DTSTART:20240310T070000
END:DAYLIGHT
BEGIN:STANDARD
TZOFFSETFROM:-0400
TZOFFSETTO:-0500
TZNAME:EST
DTSTART:20241103T060000
END:STANDARD
BEGIN:DAYLIGHT
TZOFFSETFROM:-0500
TZOFFSETTO:-0400
TZNAME:EDT
DTSTART:20250309T070000
END:DAYLIGHT
BEGIN:STANDARD
TZOFFSETFROM:-0400
TZOFFSETTO:-0500
TZNAME:EST
DTSTART:20251102T060000
END:STANDARD
BEGIN:DAYLIGHT
TZOFFSETFROM:-0500
TZOFFSETTO:-0400
TZNAME:EDT
DTSTART:20260308T070000
END:DAYLIGHT
BEGIN:STANDARD
TZOFFSETFROM:-0400
TZOFFSETTO:-0500
TZNAME:EST
DTSTART:20261101T060000
END:STANDARD
END:VTIMEZONE
BEGIN:VEVENT
DTSTART;TZID=America/New_York:20250808T181500
DTEND;TZID=America/New_York:20250808T213000
DTSTAMP:20260422T183915
CREATED:20240704T230859Z
LAST-MODIFIED:20250521T015114Z
UID:4862-1754676900-1754688600@hopebc.org
SUMMARY:Vacation Bible School: Family Fun Night
DESCRIPTION:Howdy\, partners! Welcome to Wonder Junction! There’s no greater joy than to praise the name of the Lord all day long. But how can yer’ kids do that if they don’t know who Jesus is or what he’s done for them? \nHere at Wonder Junction\, we marvel at Jesus and live for his glory.  Our hope is that children from a young age believe on Christ and serve Him with their life. \nWe have so much planned each night for your youngsters and a special Family Fun Night Jamboree on Friday to close out our VBS week.  On Friday night bring the whole family out to witness for themselves a night at Wonder Junction and afterwards we will enjoy food\, games and wonderful fellowship. The Family Fun Night Jamboree will go from 6:15pm to 9:30pm.  The whole family is welcome! \nRegister today by clicking HERE to get the latest news and updates about VBS!
URL:https://hopebc.org/event/vbs-day5/
LOCATION:Hope Baptist Church\, 3200 Woodside Dr.\, Fairfield\, OH\, 45014
CATEGORIES:Community,Kids
ATTACH;FMTTYPE=image/png:https://hopebc.org/wp-content/uploads/2024/07/wj-logo-main-medium.png
END:VEVENT
END:VCALENDAR