BEGIN:VCALENDAR
VERSION:2.0
PRODID:-//Hope Baptist Church - ECPv6.15.17//NONSGML v1.0//EN
CALSCALE:GREGORIAN
METHOD:PUBLISH
X-WR-CALNAME:Hope Baptist Church
X-ORIGINAL-URL:https://hopebc.org
X-WR-CALDESC:Events for Hope Baptist Church
REFRESH-INTERVAL;VALUE=DURATION:PT1H
X-Robots-Tag:noindex
X-PUBLISHED-TTL:PT1H
BEGIN:VTIMEZONE
TZID:America/New_York
BEGIN:DAYLIGHT
TZOFFSETFROM:-0500
TZOFFSETTO:-0400
TZNAME:EDT
DTSTART:20230312T070000
END:DAYLIGHT
BEGIN:STANDARD
TZOFFSETFROM:-0400
TZOFFSETTO:-0500
TZNAME:EST
DTSTART:20231105T060000
END:STANDARD
BEGIN:DAYLIGHT
TZOFFSETFROM:-0500
TZOFFSETTO:-0400
TZNAME:EDT
DTSTART:20240310T070000
END:DAYLIGHT
BEGIN:STANDARD
TZOFFSETFROM:-0400
TZOFFSETTO:-0500
TZNAME:EST
DTSTART:20241103T060000
END:STANDARD
BEGIN:DAYLIGHT
TZOFFSETFROM:-0500
TZOFFSETTO:-0400
TZNAME:EDT
DTSTART:20250309T070000
END:DAYLIGHT
BEGIN:STANDARD
TZOFFSETFROM:-0400
TZOFFSETTO:-0500
TZNAME:EST
DTSTART:20251102T060000
END:STANDARD
END:VTIMEZONE
BEGIN:VEVENT
DTSTART;TZID=America/New_York:20241108T190000
DTEND;TZID=America/New_York:20241109T070000
DTSTAMP:20260423T080052
CREATED:20240706T233820Z
LAST-MODIFIED:20241026T205500Z
UID:4882-1731092400-1731135600@hopebc.org
SUMMARY:Reliant Youth Lock-In 2024
DESCRIPTION:Come join our youth group (7th-12th grades) for our annual lock-in. Come enjoy fellowship\, games\, snacks\, and of course\, God-Honoring truth as you spend the night in the church building.
URL:https://hopebc.org/event/ry-lockin-2024/
LOCATION:Hope Baptist Church\, 3200 Woodside Dr.\, Fairfield\, OH\, 45014
CATEGORIES:Fellowship,Teens
END:VEVENT
END:VCALENDAR